BEGIN:VCALENDAR
VERSION:2.0
PRODID:-//Edlio Inc//Edlio Calendar//EN
CALSCALE:GREGORIAN
METHOD:PUBLISH
X-WR-CALNAME:Math 5 - Burns - 01,02-01,02 - Lake Middle School
X-ORIGINAL-URL:https://lms.scott.k12.ms.us
X-WR-CALDESC:Events calendar for lms.scott.k12.ms.us
X-WR-TIMEZONE:US/Central
REFRESH-INTERVAL;VALUE=DURATION:PT1H
X-Robots-Tag:noindex
X-PUBLISHED-TTL:PT1H
BEGIN:VTIMEZONE
TZID:US/Central
BEGIN:STANDARD
TZOFFSETFROM:-0500
TZOFFSETTO:-0600
DTSTART:20071104T020000
RRULE:FREQ=YEARLY;BYMONTH=11;BYDAY=1SU
END:STANDARD
BEGIN:DAYLIGHT
TZOFFSETFROM:-0600
TZOFFSETTO:-0500
DTSTART:20070311T020000
RRULE:FREQ=YEARLY;BYMONTH=3;BYDAY=2SU
END:DAYLIGHT
END:VTIMEZONE
BEGIN:VTIMEZONE
TZID:US/East-Indiana
BEGIN:STANDARD
TZOFFSETFROM:-0500
TZOFFSETTO:-0500
DTSTART:19701025T020000
END:STANDARD
END:VTIMEZONE
BEGIN:VTIMEZONE
TZID:US/Eastern
BEGIN:STANDARD
TZOFFSETFROM:-0400
TZOFFSETTO:-0500
DTSTART:19701025T020000
RRULE:FREQ=YEARLY;BYMONTH=10;BYDAY=-1SU;UNTIL=20070311T020000
END:STANDARD
BEGIN:STANDARD
TZOFFSETFROM:-0400
TZOFFSETTO:-0500
DTSTART:20071104T020000
RRULE:FREQ=YEARLY;BYMONTH=11;BYDAY=1SU
END:STANDARD
BEGIN:DAYLIGHT
TZOFFSETFROM:-0500
TZOFFSETTO:-0400
DTSTART:19870405T020000
RRULE:FREQ=YEARLY;BYMONTH=4;BYDAY=1SU;UNTIL=20061029T020000
END:DAYLIGHT
BEGIN:DAYLIGHT
TZOFFSETFROM:-0500
TZOFFSETTO:-0400
DTSTART:20070311T020000
RRULE:FREQ=YEARLY;BYMONTH=3;BYDAY=2SU
END:DAYLIGHT
END:VTIMEZONE
BEGIN:VTIMEZONE
TZID:US/Michigan
BEGIN:STANDARD
TZOFFSETFROM:-0400
TZOFFSETTO:-0500
DTSTART:19701025T020000
RRULE:FREQ=YEARLY;BYMONTH=10;BYDAY=-1SU;UNTIL=20070311T020000
END:STANDARD
BEGIN:STANDARD
TZOFFSETFROM:-0400
TZOFFSETTO:-0500
DTSTART:20071104T020000
RRULE:FREQ=YEARLY;BYMONTH=11;BYDAY=1SU
END:STANDARD
BEGIN:DAYLIGHT
TZOFFSETFROM:-0500
TZOFFSETTO:-0400
DTSTART:19870405T020000
RRULE:FREQ=YEARLY;BYMONTH=4;BYDAY=1SU;UNTIL=20061029T020000
END:DAYLIGHT
BEGIN:DAYLIGHT
TZOFFSETFROM:-0500
TZOFFSETTO:-0400
DTSTART:20070311T020000
RRULE:FREQ=YEARLY;BYMONTH=3;BYDAY=2SU
END:DAYLIGHT
END:VTIMEZONE
BEGIN:VTIMEZONE
TZID:US/Central
BEGIN:STANDARD
TZOFFSETFROM:-0500
TZOFFSETTO:-0600
DTSTART:19701025T020000
RRULE:FREQ=YEARLY;BYMONTH=10;BYDAY=-1SU;UNTIL=20070311T020000
END:STANDARD
BEGIN:STANDARD
TZOFFSETFROM:-0500
TZOFFSETTO:-0600
DTSTART:20071104T020000
RRULE:FREQ=YEARLY;BYMONTH=11;BYDAY=1SU
END:STANDARD
BEGIN:DAYLIGHT
TZOFFSETFROM:-0600
TZOFFSETTO:-0500
DTSTART:19870405T020000
RRULE:FREQ=YEARLY;BYMONTH=4;BYDAY=1SU;UNTIL=20061029T020000
END:DAYLIGHT
BEGIN:DAYLIGHT
TZOFFSETFROM:-0600
TZOFFSETTO:-0500
DTSTART:20070311T020000
RRULE:FREQ=YEARLY;BYMONTH=3;BYDAY=2SU
END:DAYLIGHT
END:VTIMEZONE
BEGIN:VTIMEZONE
TZID:US/Mountain
BEGIN:STANDARD
TZOFFSETFROM:-0600
TZOFFSETTO:-0700
DTSTART:19701025T020000
RRULE:FREQ=YEARLY;BYMONTH=10;BYDAY=-1SU;UNTIL=20070311T020000
END:STANDARD
BEGIN:STANDARD
TZOFFSETFROM:-0600
TZOFFSETTO:-0700
DTSTART:20071104T020000
RRULE:FREQ=YEARLY;BYMONTH=11;BYDAY=1SU
END:STANDARD
BEGIN:DAYLIGHT
TZOFFSETFROM:-0700
TZOFFSETTO:-0600
DTSTART:19870405T020000
RRULE:FREQ=YEARLY;BYMONTH=4;BYDAY=1SU;UNTIL=20061029T020000
END:DAYLIGHT
BEGIN:DAYLIGHT
TZOFFSETFROM:-0700
TZOFFSETTO:-0600
DTSTART:20070311T020000
RRULE:FREQ=YEARLY;BYMONTH=3;BYDAY=2SU
END:DAYLIGHT
END:VTIMEZONE
BEGIN:VTIMEZONE
TZID:US/Arizona
BEGIN:STANDARD
TZOFFSETFROM:-0700
TZOFFSETTO:-0700
DTSTART:19701025T020000
END:STANDARD
END:VTIMEZONE
BEGIN:VTIMEZONE
TZID:US/Pacific
BEGIN:STANDARD
TZOFFSETFROM:-0700
TZOFFSETTO:-0800
DTSTART:19701025T020000
RRULE:FREQ=YEARLY;BYMONTH=10;BYDAY=-1SU;UNTIL=20070311T020000
END:STANDARD
BEGIN:STANDARD
TZOFFSETFROM:-0700
TZOFFSETTO:-0800
DTSTART:20071104T020000
RRULE:FREQ=YEARLY;BYMONTH=11;BYDAY=1SU
END:STANDARD
BEGIN:DAYLIGHT
TZOFFSETFROM:-0800
TZOFFSETTO:-0700
DTSTART:19870405T020000
RRULE:FREQ=YEARLY;BYMONTH=4;BYDAY=1SU;UNTIL=20061029T020000
END:DAYLIGHT
BEGIN:DAYLIGHT
TZOFFSETFROM:-0800
TZOFFSETTO:-0700
DTSTART:20070311T020000
RRULE:FREQ=YEARLY;BYMONTH=3;BYDAY=2SU
END:DAYLIGHT
END:VTIMEZONE
BEGIN:VTIMEZONE
TZID:US/Alaska
BEGIN:STANDARD
TZOFFSETFROM:-0800
TZOFFSETTO:-0900
DTSTART:19701025T020000
RRULE:FREQ=YEARLY;BYMONTH=10;BYDAY=-1SU;UNTIL=20070311T020000
END:STANDARD
BEGIN:STANDARD
TZOFFSETFROM:-0800
TZOFFSETTO:-0900
DTSTART:20071104T020000
RRULE:FREQ=YEARLY;BYMONTH=11;BYDAY=1SU
END:STANDARD
BEGIN:DAYLIGHT
TZOFFSETFROM:-0900
TZOFFSETTO:-0800
DTSTART:19870405T020000
RRULE:FREQ=YEARLY;BYMONTH=4;BYDAY=1SU;UNTIL=20061029T020000
END:DAYLIGHT
BEGIN:DAYLIGHT
TZOFFSETFROM:-0900
TZOFFSETTO:-0800
DTSTART:20070311T020000
RRULE:FREQ=YEARLY;BYMONTH=3;BYDAY=2SU
END:DAYLIGHT
END:VTIMEZONE
BEGIN:VTIMEZONE
TZID:US/Hawaii
BEGIN:STANDARD
TZOFFSETFROM:-1000
TZOFFSETTO:-1000
DTSTART:19701025T020000
END:STANDARD
END:VTIMEZONE
BEGIN:VTIMEZONE
TZID:US/Aleutian
BEGIN:STANDARD
TZOFFSETFROM:-1000
TZOFFSETTO:-1000
DTSTART:19701025T020000
END:STANDARD
END:VTIMEZONE
BEGIN:VTIMEZONE
TZID:US/Samoa
BEGIN:STANDARD
TZOFFSETFROM:-1100
TZOFFSETTO:-1100
DTSTART:19701025T020000
END:STANDARD
END:VTIMEZONE
BEGIN:VEVENT
UID:11199849@lms.scott.k12.ms.us#20270916
SEQUENCE:0
CREATED:20260317T114348Z
LAST-MODIFIED:20260317T114348Z
DTSTART;TZID=US/Central:20270916T040500
DTEND;TZID=US/Central:20270916T040600
SUMMARY:Assignment: place value
DESCRIPTION:Click on the link below to start the game\n<a href=' https://lm
 s.scott.k12.ms.us/apps/classes/1061454/assignments/#hw-11199849'>Read more
 </a>
URL:https://lms.scott.k12.ms.us/apps/classes/1061454/assignments/#hw-111998
 49
ORGANIZER;CN="Edlio Calendar":MAILTO:noreply@lms.scott.k12.ms.us
DTSTAMP:20260425T171117Z
END:VEVENT
BEGIN:VEVENT
UID:11199850@lms.scott.k12.ms.us#20270916
SEQUENCE:0
CREATED:20260317T114348Z
LAST-MODIFIED:20260317T114348Z
DTSTART;TZID=US/Central:20270916T040500
DTEND;TZID=US/Central:20270916T040600
SUMMARY:Assignment: place value
DESCRIPTION:Click on the link below to start the game\n<a href=' https://lm
 s.scott.k12.ms.us/apps/classes/1061454/assignments/#hw-11199850'>Read more
 </a>
URL:https://lms.scott.k12.ms.us/apps/classes/1061454/assignments/#hw-111998
 50
ORGANIZER;CN="Edlio Calendar":MAILTO:noreply@lms.scott.k12.ms.us
DTSTAMP:20260425T171117Z
END:VEVENT
BEGIN:VEVENT
UID:11199851@lms.scott.k12.ms.us#20270916
SEQUENCE:0
CREATED:20260317T114348Z
LAST-MODIFIED:20260317T114348Z
DTSTART;TZID=US/Central:20270916T040500
DTEND;TZID=US/Central:20270916T040600
SUMMARY:Assignment: place value
DESCRIPTION:Click on the link below to start the game\n<a href=' https://lm
 s.scott.k12.ms.us/apps/classes/1061454/assignments/#hw-11199851'>Read more
 </a>
URL:https://lms.scott.k12.ms.us/apps/classes/1061454/assignments/#hw-111998
 51
ORGANIZER;CN="Edlio Calendar":MAILTO:noreply@lms.scott.k12.ms.us
DTSTAMP:20260425T171117Z
END:VEVENT
BEGIN:VEVENT
UID:11199853@lms.scott.k12.ms.us#20270916
SEQUENCE:0
CREATED:20260317T114348Z
LAST-MODIFIED:20260317T114348Z
DTSTART;TZID=US/Central:20270916T040500
DTEND;TZID=US/Central:20270916T040600
SUMMARY:Assignment: place value
DESCRIPTION:Click on the link below to start the game\n<a href=' https://lm
 s.scott.k12.ms.us/apps/classes/1061454/assignments/#hw-11199853'>Read more
 </a>
URL:https://lms.scott.k12.ms.us/apps/classes/1061454/assignments/#hw-111998
 53
ORGANIZER;CN="Edlio Calendar":MAILTO:noreply@lms.scott.k12.ms.us
DTSTAMP:20260425T171117Z
END:VEVENT
BEGIN:VEVENT
UID:10954833@lms.scott.k12.ms.us#20270718
SEQUENCE:0
CREATED:20260127T144007Z
LAST-MODIFIED:20260127T144007Z
DTSTART;TZID=US/Central:20270718T050800
DTEND;TZID=US/Central:20270718T050900
SUMMARY:Assignment: tables and rules 5.oa.3
DESCRIPTION:Click on the link below to start the game\n<a href=' https://lm
 s.scott.k12.ms.us/apps/classes/1061454/assignments/#hw-10954833'>Read more
 </a>
URL:https://lms.scott.k12.ms.us/apps/classes/1061454/assignments/#hw-109548
 33
ORGANIZER;CN="Edlio Calendar":MAILTO:noreply@lms.scott.k12.ms.us
DTSTAMP:20260425T171117Z
END:VEVENT
BEGIN:VEVENT
UID:10954835@lms.scott.k12.ms.us#20270718
SEQUENCE:0
CREATED:20260127T144007Z
LAST-MODIFIED:20260127T144007Z
DTSTART;TZID=US/Central:20270718T050800
DTEND;TZID=US/Central:20270718T050900
SUMMARY:Assignment: tables and rules 5.oa.3
DESCRIPTION:Click on the link below to start the game\n<a href=' https://lm
 s.scott.k12.ms.us/apps/classes/1061454/assignments/#hw-10954835'>Read more
 </a>
URL:https://lms.scott.k12.ms.us/apps/classes/1061454/assignments/#hw-109548
 35
ORGANIZER;CN="Edlio Calendar":MAILTO:noreply@lms.scott.k12.ms.us
DTSTAMP:20260425T171117Z
END:VEVENT
BEGIN:VEVENT
UID:10980621@lms.scott.k12.ms.us#20270610
SEQUENCE:0
CREATED:20260210T005108Z
LAST-MODIFIED:20260210T005108Z
DTSTART;TZID=US/Central:20270610T051200
DTEND;TZID=US/Central:20270610T051300
SUMMARY:Assignment: fraction operations
DESCRIPTION:Click on the link below to start the game\n<a href=' https://lm
 s.scott.k12.ms.us/apps/classes/1061454/assignments/#hw-10980621'>Read more
 </a>
URL:https://lms.scott.k12.ms.us/apps/classes/1061454/assignments/#hw-109806
 21
ORGANIZER;CN="Edlio Calendar":MAILTO:noreply@lms.scott.k12.ms.us
DTSTAMP:20260425T171117Z
END:VEVENT
BEGIN:VEVENT
UID:10980629@lms.scott.k12.ms.us#20270610
SEQUENCE:0
CREATED:20260210T005109Z
LAST-MODIFIED:20260210T005109Z
DTSTART;TZID=US/Central:20270610T051200
DTEND;TZID=US/Central:20270610T051300
SUMMARY:Assignment: fraction operations
DESCRIPTION:Click on the link below to start the game\n<a href=' https://lm
 s.scott.k12.ms.us/apps/classes/1061454/assignments/#hw-10980629'>Read more
 </a>
URL:https://lms.scott.k12.ms.us/apps/classes/1061454/assignments/#hw-109806
 29
ORGANIZER;CN="Edlio Calendar":MAILTO:noreply@lms.scott.k12.ms.us
DTSTAMP:20260425T171117Z
END:VEVENT
BEGIN:VEVENT
UID:10980645@lms.scott.k12.ms.us#20270610
SEQUENCE:0
CREATED:20260210T005109Z
LAST-MODIFIED:20260210T005109Z
DTSTART;TZID=US/Central:20270610T051200
DTEND;TZID=US/Central:20270610T051300
SUMMARY:Assignment: fraction operations
DESCRIPTION:Click on the link below to start the game\n<a href=' https://lm
 s.scott.k12.ms.us/apps/classes/1061454/assignments/#hw-10980645'>Read more
 </a>
URL:https://lms.scott.k12.ms.us/apps/classes/1061454/assignments/#hw-109806
 45
ORGANIZER;CN="Edlio Calendar":MAILTO:noreply@lms.scott.k12.ms.us
DTSTAMP:20260425T171117Z
END:VEVENT
BEGIN:VEVENT
UID:10953886@lms.scott.k12.ms.us#20270613
SEQUENCE:0
CREATED:20260127T023230Z
LAST-MODIFIED:20260127T023230Z
DTSTART;TZID=US/Central:20270613T053200
DTEND;TZID=US/Central:20270613T053300
SUMMARY:Assignment: Friday multiply fractions and mixed numbers
DESCRIPTION:Click on the link below to start the game\n<a href=' https://lm
 s.scott.k12.ms.us/apps/classes/1061454/assignments/#hw-10953886'>Read more
 </a>
URL:https://lms.scott.k12.ms.us/apps/classes/1061454/assignments/#hw-109538
 86
ORGANIZER;CN="Edlio Calendar":MAILTO:noreply@lms.scott.k12.ms.us
DTSTAMP:20260425T171117Z
END:VEVENT
BEGIN:VEVENT
UID:10980661@lms.scott.k12.ms.us#20270610
SEQUENCE:0
CREATED:20260210T005109Z
LAST-MODIFIED:20260210T005109Z
DTSTART;TZID=US/Central:20270610T053500
DTEND;TZID=US/Central:20270610T053600
SUMMARY:Assignment: fraction operations slide show
DESCRIPTION:Click on the link below to start the game\n<a href=' https://lm
 s.scott.k12.ms.us/apps/classes/1061454/assignments/#hw-10980661'>Read more
 </a>
URL:https://lms.scott.k12.ms.us/apps/classes/1061454/assignments/#hw-109806
 61
ORGANIZER;CN="Edlio Calendar":MAILTO:noreply@lms.scott.k12.ms.us
DTSTAMP:20260425T171117Z
END:VEVENT
BEGIN:VEVENT
UID:10980667@lms.scott.k12.ms.us#20270610
SEQUENCE:0
CREATED:20260210T005109Z
LAST-MODIFIED:20260210T005109Z
DTSTART;TZID=US/Central:20270610T053500
DTEND;TZID=US/Central:20270610T053600
SUMMARY:Assignment: fraction operations slide show
DESCRIPTION:Click on the link below to start the game\n<a href=' https://lm
 s.scott.k12.ms.us/apps/classes/1061454/assignments/#hw-10980667'>Read more
 </a>
URL:https://lms.scott.k12.ms.us/apps/classes/1061454/assignments/#hw-109806
 67
ORGANIZER;CN="Edlio Calendar":MAILTO:noreply@lms.scott.k12.ms.us
DTSTAMP:20260425T171117Z
END:VEVENT
BEGIN:VEVENT
UID:10980672@lms.scott.k12.ms.us#20270610
SEQUENCE:0
CREATED:20260210T005110Z
LAST-MODIFIED:20260210T005110Z
DTSTART;TZID=US/Central:20270610T053500
DTEND;TZID=US/Central:20270610T053600
SUMMARY:Assignment: fraction operations slide show
DESCRIPTION:Click on the link below to start the game\n<a href=' https://lm
 s.scott.k12.ms.us/apps/classes/1061454/assignments/#hw-10980672'>Read more
 </a>
URL:https://lms.scott.k12.ms.us/apps/classes/1061454/assignments/#hw-109806
 72
ORGANIZER;CN="Edlio Calendar":MAILTO:noreply@lms.scott.k12.ms.us
DTSTAMP:20260425T171117Z
END:VEVENT
BEGIN:VEVENT
UID:11242814@lms.scott.k12.ms.us#20270923
SEQUENCE:0
CREATED:20260324T144355Z
LAST-MODIFIED:20260324T144355Z
DTSTART;TZID=US/Central:20270923T054700
DTEND;TZID=US/Central:20270923T054800
SUMMARY:Assignment: 2D polygons
DESCRIPTION:Click on the link below to start the game\n<a href=' https://lm
 s.scott.k12.ms.us/apps/classes/1061454/assignments/#hw-11242814'>Read more
 </a>
URL:https://lms.scott.k12.ms.us/apps/classes/1061454/assignments/#hw-112428
 14
ORGANIZER;CN="Edlio Calendar":MAILTO:noreply@lms.scott.k12.ms.us
DTSTAMP:20260425T171117Z
END:VEVENT
BEGIN:VEVENT
UID:11242815@lms.scott.k12.ms.us#20270923
SEQUENCE:0
CREATED:20260324T144355Z
LAST-MODIFIED:20260324T144355Z
DTSTART;TZID=US/Central:20270923T054700
DTEND;TZID=US/Central:20270923T054800
SUMMARY:Assignment: 2D polygons
DESCRIPTION:Click on the link below to start the game\n<a href=' https://lm
 s.scott.k12.ms.us/apps/classes/1061454/assignments/#hw-11242815'>Read more
 </a>
URL:https://lms.scott.k12.ms.us/apps/classes/1061454/assignments/#hw-112428
 15
ORGANIZER;CN="Edlio Calendar":MAILTO:noreply@lms.scott.k12.ms.us
DTSTAMP:20260425T171117Z
END:VEVENT
BEGIN:VEVENT
UID:11242812@lms.scott.k12.ms.us#20270923
SEQUENCE:0
CREATED:20260324T144355Z
LAST-MODIFIED:20260324T144355Z
DTSTART;TZID=US/Central:20270923T054800
DTEND;TZID=US/Central:20270923T054900
SUMMARY:Assignment: triangles angles and sides
DESCRIPTION:Click on the link below to start the game\n<a href=' https://lm
 s.scott.k12.ms.us/apps/classes/1061454/assignments/#hw-11242812'>Read more
 </a>
URL:https://lms.scott.k12.ms.us/apps/classes/1061454/assignments/#hw-112428
 12
ORGANIZER;CN="Edlio Calendar":MAILTO:noreply@lms.scott.k12.ms.us
DTSTAMP:20260425T171117Z
END:VEVENT
BEGIN:VEVENT
UID:11242813@lms.scott.k12.ms.us#20270923
SEQUENCE:0
CREATED:20260324T144355Z
LAST-MODIFIED:20260324T144355Z
DTSTART;TZID=US/Central:20270923T054800
DTEND;TZID=US/Central:20270923T054900
SUMMARY:Assignment: triangles angles and sides
DESCRIPTION:Click on the link below to start the game\n<a href=' https://lm
 s.scott.k12.ms.us/apps/classes/1061454/assignments/#hw-11242813'>Read more
 </a>
URL:https://lms.scott.k12.ms.us/apps/classes/1061454/assignments/#hw-112428
 13
ORGANIZER;CN="Edlio Calendar":MAILTO:noreply@lms.scott.k12.ms.us
DTSTAMP:20260425T171117Z
END:VEVENT
BEGIN:VEVENT
UID:10953885@lms.scott.k12.ms.us#20270114
SEQUENCE:0
CREATED:20260127T023230Z
LAST-MODIFIED:20260127T023230Z
DTSTART;TZID=US/Central:20270114T071400
DTEND;TZID=US/Central:20270114T071500
SUMMARY:Assignment: place value video 
DESCRIPTION:Click on the link below to start the game\n<a href=' https://lm
 s.scott.k12.ms.us/apps/classes/1061454/assignments/#hw-10953885'>Read more
 </a>
URL:https://lms.scott.k12.ms.us/apps/classes/1061454/assignments/#hw-109538
 85
ORGANIZER;CN="Edlio Calendar":MAILTO:noreply@lms.scott.k12.ms.us
DTSTAMP:20260425T171117Z
END:VEVENT
BEGIN:VEVENT
UID:10980602@lms.scott.k12.ms.us#20270129
SEQUENCE:0
CREATED:20260210T005108Z
LAST-MODIFIED:20260210T005108Z
DTSTART;TZID=US/Central:20270129T074400
DTEND;TZID=US/Central:20270129T074500
SUMMARY:Assignment: multiply divide powers of 10
DESCRIPTION:Click on the link below to start the game\n<a href=' https://lm
 s.scott.k12.ms.us/apps/classes/1061454/assignments/#hw-10980602'>Read more
 </a>
URL:https://lms.scott.k12.ms.us/apps/classes/1061454/assignments/#hw-109806
 02
ORGANIZER;CN="Edlio Calendar":MAILTO:noreply@lms.scott.k12.ms.us
DTSTAMP:20260425T171117Z
END:VEVENT
BEGIN:VEVENT
UID:10980605@lms.scott.k12.ms.us#20270129
SEQUENCE:0
CREATED:20260210T005108Z
LAST-MODIFIED:20260210T005108Z
DTSTART;TZID=US/Central:20270129T074400
DTEND;TZID=US/Central:20270129T074500
SUMMARY:Assignment: multiply divide powers of 10
DESCRIPTION:Click on the link below to start the game\n<a href=' https://lm
 s.scott.k12.ms.us/apps/classes/1061454/assignments/#hw-10980605'>Read more
 </a>
URL:https://lms.scott.k12.ms.us/apps/classes/1061454/assignments/#hw-109806
 05
ORGANIZER;CN="Edlio Calendar":MAILTO:noreply@lms.scott.k12.ms.us
DTSTAMP:20260425T171117Z
END:VEVENT
BEGIN:VEVENT
UID:10980620@lms.scott.k12.ms.us#20270129
SEQUENCE:0
CREATED:20260210T005108Z
LAST-MODIFIED:20260210T005108Z
DTSTART;TZID=US/Central:20270129T074400
DTEND;TZID=US/Central:20270129T074500
SUMMARY:Assignment: multiply divide powers of 10
DESCRIPTION:Click on the link below to start the game\n<a href=' https://lm
 s.scott.k12.ms.us/apps/classes/1061454/assignments/#hw-10980620'>Read more
 </a>
URL:https://lms.scott.k12.ms.us/apps/classes/1061454/assignments/#hw-109806
 20
ORGANIZER;CN="Edlio Calendar":MAILTO:noreply@lms.scott.k12.ms.us
DTSTAMP:20260425T171117Z
END:VEVENT
BEGIN:VEVENT
UID:10953892@lms.scott.k12.ms.us#20270122
SEQUENCE:0
CREATED:20260127T023230Z
LAST-MODIFIED:20260127T023230Z
DTSTART;TZID=US/Central:20270122T082900
DTEND;TZID=US/Central:20270122T083000
SUMMARY:Assignment: comparing decimals video quiz
DESCRIPTION:Click on the link below to start the game\n<a href=' https://lm
 s.scott.k12.ms.us/apps/classes/1061454/assignments/#hw-10953892'>Read more
 </a>
URL:https://lms.scott.k12.ms.us/apps/classes/1061454/assignments/#hw-109538
 92
ORGANIZER;CN="Edlio Calendar":MAILTO:noreply@lms.scott.k12.ms.us
DTSTAMP:20260425T171117Z
END:VEVENT
BEGIN:VEVENT
UID:10980601@lms.scott.k12.ms.us#20270714
SEQUENCE:0
CREATED:20260210T005108Z
LAST-MODIFIED:20260210T005108Z
DTSTART;TZID=US/Central:20270714T095300
DTEND;TZID=US/Central:20270714T095400
SUMMARY:Assignment: coordinate plane
DESCRIPTION:Click on the link below to start the game\n<a href=' https://lm
 s.scott.k12.ms.us/apps/classes/1061454/assignments/#hw-10980601'>Read more
 </a>
URL:https://lms.scott.k12.ms.us/apps/classes/1061454/assignments/#hw-109806
 01
ORGANIZER;CN="Edlio Calendar":MAILTO:noreply@lms.scott.k12.ms.us
DTSTAMP:20260425T171117Z
END:VEVENT
BEGIN:VEVENT
UID:10980603@lms.scott.k12.ms.us#20270714
SEQUENCE:0
CREATED:20260210T005108Z
LAST-MODIFIED:20260210T005108Z
DTSTART;TZID=US/Central:20270714T095300
DTEND;TZID=US/Central:20270714T095400
SUMMARY:Assignment: coordinate plane
DESCRIPTION:Click on the link below to start the game\n<a href=' https://lm
 s.scott.k12.ms.us/apps/classes/1061454/assignments/#hw-10980603'>Read more
 </a>
URL:https://lms.scott.k12.ms.us/apps/classes/1061454/assignments/#hw-109806
 03
ORGANIZER;CN="Edlio Calendar":MAILTO:noreply@lms.scott.k12.ms.us
DTSTAMP:20260425T171117Z
END:VEVENT
BEGIN:VEVENT
UID:10980617@lms.scott.k12.ms.us#20270714
SEQUENCE:0
CREATED:20260210T005108Z
LAST-MODIFIED:20260210T005108Z
DTSTART;TZID=US/Central:20270714T095300
DTEND;TZID=US/Central:20270714T095400
SUMMARY:Assignment: coordinate plane
DESCRIPTION:Click on the link below to start the game\n<a href=' https://lm
 s.scott.k12.ms.us/apps/classes/1061454/assignments/#hw-10980617'>Read more
 </a>
URL:https://lms.scott.k12.ms.us/apps/classes/1061454/assignments/#hw-109806
 17
ORGANIZER;CN="Edlio Calendar":MAILTO:noreply@lms.scott.k12.ms.us
DTSTAMP:20260425T171117Z
END:VEVENT
BEGIN:VEVENT
UID:10980624@lms.scott.k12.ms.us#20270119
SEQUENCE:0
CREATED:20260210T005108Z
LAST-MODIFIED:20260210T005108Z
DTSTART;TZID=US/Central:20270119T115900
DTEND;TZID=US/Central:20270119T120000
SUMMARY:Assignment: comparing decimals
DESCRIPTION:Click on the link below to start the game\n<a href=' https://lm
 s.scott.k12.ms.us/apps/classes/1061454/assignments/#hw-10980624'>Read more
 </a>
URL:https://lms.scott.k12.ms.us/apps/classes/1061454/assignments/#hw-109806
 24
ORGANIZER;CN="Edlio Calendar":MAILTO:noreply@lms.scott.k12.ms.us
DTSTAMP:20260425T171117Z
END:VEVENT
BEGIN:VEVENT
UID:10980632@lms.scott.k12.ms.us#20270119
SEQUENCE:0
CREATED:20260210T005109Z
LAST-MODIFIED:20260210T005109Z
DTSTART;TZID=US/Central:20270119T115900
DTEND;TZID=US/Central:20270119T120000
SUMMARY:Assignment: comparing decimals
DESCRIPTION:Click on the link below to start the game\n<a href=' https://lm
 s.scott.k12.ms.us/apps/classes/1061454/assignments/#hw-10980632'>Read more
 </a>
URL:https://lms.scott.k12.ms.us/apps/classes/1061454/assignments/#hw-109806
 32
ORGANIZER;CN="Edlio Calendar":MAILTO:noreply@lms.scott.k12.ms.us
DTSTAMP:20260425T171117Z
END:VEVENT
BEGIN:VEVENT
UID:10980648@lms.scott.k12.ms.us#20270119
SEQUENCE:0
CREATED:20260210T005109Z
LAST-MODIFIED:20260210T005109Z
DTSTART;TZID=US/Central:20270119T115900
DTEND;TZID=US/Central:20270119T120000
SUMMARY:Assignment: comparing decimals
DESCRIPTION:Click on the link below to start the game\n<a href=' https://lm
 s.scott.k12.ms.us/apps/classes/1061454/assignments/#hw-10980648'>Read more
 </a>
URL:https://lms.scott.k12.ms.us/apps/classes/1061454/assignments/#hw-109806
 48
ORGANIZER;CN="Edlio Calendar":MAILTO:noreply@lms.scott.k12.ms.us
DTSTAMP:20260425T171117Z
END:VEVENT
END:VCALENDAR
